BEGIN:VCALENDAR
VERSION:2.0
CALSCALE:GREGORIAN
PRODID:adamgibbons/ics
METHOD:PUBLISH
X-PUBLISHED-TTL:PT1H
BEGIN:VEVENT
UID:430@improkalender-stuttgart.de
SUMMARY:Theater-Impro-Spiele Kurs für Fortgeschrittene
DTSTAMP:20260424T104201Z
DTSTART:20260429T173000Z
DTEND:20260429T194500Z
URL:https://improkalender-stuttgart.de/event/theater-impro-spiele-kurs-fur-
	fortgeschrittene-6
LOCATION:Zentrum-Weissenburg - Weissenburgstraße 28A\, 70180 Stuttgart\, 1.
	 Stock
STATUS:CONFIRMED
CATEGORIES:Emrich's Theaterwerkstatt,Horst Emrich,Impro Unterricht,Improthe
	ater,Schauspiel Unterricht,Theater-Impro-Spiele Kurs
END:VEVENT
END:VCALENDAR
